BEGIN:VCALENDAR
VERSION:2.0
PRODID:-//jEvents 2.0 for Joomla//EN
CALSCALE:GREGORIAN
METHOD:PUBLISH
BEGIN:VTIMEZONE
TZID:Europe/Zurich
BEGIN:STANDARD
DTSTART:20251026T020000
RDATE:20260329T030000
TZOFFSETFROM:+0200
TZOFFSETTO:+0100
TZNAME:Europe/Zurich CET
END:STANDARD
BEGIN:DAYLIGHT
DTSTART:20250907T000000
RDATE:20251026T020000
TZOFFSETFROM:+0100
TZOFFSETTO:+0200
TZNAME:Europe/Zurich CEST
END:DAYLIGHT
END:VTIMEZONE
BEGIN:VEVENT
UID:0bef59140ac8d2bc9ca5dcb52d8259c1
CATEGORIES:DEFAULT
CREATED:20251126T103418
SUMMARY:Kantonale Delegiertenversammlung
DESCRIPTION:
DTSTAMP:20260419T130328
DTSTART;TZID=Europe/Zurich;VALUE=DATE:20260908
DTEND;TZID=Europe/Zurich;VALUE=DATE:20260909
SEQUENCE:0
TRANSP:OPAQUE
END:VEVENT
END:VCALENDAR