BEGIN:VCALENDAR
VERSION:2.0
PRODID:-//jEvents 2.0 for Joomla//EN
CALSCALE:GREGORIAN
METHOD:PUBLISH
BEGIN:VTIMEZONE
TZID:Europe/Zurich
BEGIN:STANDARD
DTSTART:20251027T000000
RDATE:20260329T030000
TZOFFSETFROM:+0200
TZOFFSETTO:+0100
TZNAME:Europe/Zurich CET
END:STANDARD
END:VTIMEZONE
BEGIN:VEVENT
UID:811ddfed15e5b35c2621b1787586d595
CATEGORIES:DEFAULT
CREATED:20251126T103731
SUMMARY:Parteiversammlung
DESCRIPTION:
DTSTAMP:20260419T130605
DTSTART;TZID=Europe/Zurich;VALUE=DATE:20261028
DTEND;TZID=Europe/Zurich;VALUE=DATE:20261029
SEQUENCE:0
TRANSP:OPAQUE
END:VEVENT
END:VCALENDAR