BEGIN:VCALENDAR
VERSION:2.0
PRODID:-//jEvents 2.0 for Joomla//EN
CALSCALE:GREGORIAN
METHOD:PUBLISH
BEGIN:VTIMEZONE
TZID:Europe/Zurich
BEGIN:STANDARD
DTSTART:20251101T000000
RDATE:20260329T030000
TZOFFSETFROM:+0200
TZOFFSETTO:+0100
TZNAME:Europe/Zurich CET
END:STANDARD
END:VTIMEZONE
BEGIN:VEVENT
UID:bec34f49969c86782477636dc5be0c56
CATEGORIES:DEFAULT
CREATED:20251126T103752
SUMMARY:Gemeinderat
DESCRIPTION:
DTSTAMP:20260419T130954
DTSTART;TZID=Europe/Zurich;VALUE=DATE:20261102
DTEND;TZID=Europe/Zurich;VALUE=DATE:20261103
SEQUENCE:0
TRANSP:OPAQUE
END:VEVENT
END:VCALENDAR