BEGIN:VCALENDAR
VERSION:2.0
PRODID:-//jEvents 2.0 for Joomla//EN
CALSCALE:GREGORIAN
METHOD:PUBLISH
BEGIN:VTIMEZONE
TZID:Europe/Zurich
BEGIN:STANDARD
DTSTART:20251124T000000
RDATE:20260329T030000
TZOFFSETFROM:+0200
TZOFFSETTO:+0100
TZNAME:Europe/Zurich CET
END:STANDARD
END:VTIMEZONE
BEGIN:VEVENT
UID:8a9e7f0ff4d901d6a84b1989e7a97c99
CATEGORIES:DEFAULT
CREATED:20251126T103843
SUMMARY:Fraktionssitzung SVP Dübendorf
DESCRIPTION:
DTSTAMP:20260419T130937
DTSTART;TZID=Europe/Zurich;VALUE=DATE:20261125
DTEND;TZID=Europe/Zurich;VALUE=DATE:20261126
SEQUENCE:0
TRANSP:OPAQUE
END:VEVENT
END:VCALENDAR