BEGIN:VCALENDAR
VERSION:2.0
PRODID:-//jEvents 2.0 for Joomla//EN
CALSCALE:GREGORIAN
METHOD:PUBLISH
BEGIN:VTIMEZONE
TZID:Europe/Zurich
BEGIN:STANDARD
DTSTART:20251128T000000
RDATE:20260329T030000
TZOFFSETFROM:+0200
TZOFFSETTO:+0100
TZNAME:Europe/Zurich CET
END:STANDARD
END:VTIMEZONE
BEGIN:VEVENT
UID:70d1857394e080a06b8b52aa2ea9eb78
CATEGORIES:DEFAULT
CREATED:20251126T103907
SUMMARY:Volksabstimmung
DESCRIPTION:
DTSTAMP:20260419T130605
DTSTART;TZID=Europe/Zurich;VALUE=DATE:20261129
DTEND;TZID=Europe/Zurich;VALUE=DATE:20261130
SEQUENCE:0
TRANSP:OPAQUE
END:VEVENT
END:VCALENDAR