BEGIN:VCALENDAR
VERSION:2.0
PRODID:-//jEvents 2.0 for Joomla//EN
CALSCALE:GREGORIAN
METHOD:PUBLISH
BEGIN:VTIMEZONE
TZID:Europe/Zurich
BEGIN:STANDARD
DTSTART:20251206T000000
RDATE:20260329T030000
TZOFFSETFROM:+0200
TZOFFSETTO:+0100
TZNAME:Europe/Zurich CET
END:STANDARD
END:VTIMEZONE
BEGIN:VEVENT
UID:ae4f8a364025522e73272dd29754ab35
CATEGORIES:DEFAULT
CREATED:20251126T104049
SUMMARY:Gemeinderat
DESCRIPTION:
DTSTAMP:20260419T130429
DTSTART;TZID=Europe/Zurich;VALUE=DATE:20261207
DTEND;TZID=Europe/Zurich;VALUE=DATE:20261208
SEQUENCE:0
TRANSP:OPAQUE
END:VEVENT
END:VCALENDAR