BEGIN:VCALENDAR
VERSION:2.0
PRODID:-//jEvents 2.0 for Joomla//EN
CALSCALE:GREGORIAN
METHOD:PUBLISH
BEGIN:VTIMEZONE
TZID:Europe/Zurich
BEGIN:STANDARD
DTSTART:20251214T000000
RDATE:20260329T030000
TZOFFSETFROM:+0200
TZOFFSETTO:+0100
TZNAME:Europe/Zurich CET
END:STANDARD
END:VTIMEZONE
BEGIN:VEVENT
UID:fb039530f04874182ccc2e791e42db88
CATEGORIES:DEFAULT
CREATED:20251126T104113
SUMMARY:Kantonale Delegiertenversammlung
DESCRIPTION:
DTSTAMP:20260419T130311
DTSTART;TZID=Europe/Zurich;VALUE=DATE:20261215
DTEND;TZID=Europe/Zurich;VALUE=DATE:20261216
SEQUENCE:0
TRANSP:OPAQUE
END:VEVENT
END:VCALENDAR